BEGIN:VCALENDAR
VERSION:2.0
CALSCALE:GREGORIAN
PRODID:-//Diputació de Barcelona//DibaCMS//EN
BEGIN:VEVENT
UID:58536
DTSTAMP:20260421T060747
DTSTART:20251030T093000
DTEND:20251030T113000
SUMMARY:Caminades saludables
LOCATION:
METHOD:PUBLISH
X-WR-CALNAME:info@llinarsdelvalles.cat
X-WR-TIMEZONE:Europe/Madrid
DESCRIPTION:Cada dijous al matí

Nivell baix (4-6 km)

URI:https://www.llinarsdelvalles.cat/actualitat/agenda/58536-caminades-saludables.html
CLASS:PUBLIC
END:VEVENT
END:VCALENDAR
