BEGIN:VCALENDAR
VERSION:2.0
CALSCALE:GREGORIAN
PRODID:-//Diputació de Barcelona//DibaCMS//EN
BEGIN:VEVENT
UID:58537
DTSTAMP:20260421T062534
DTSTART:20251030T190000
DTEND:20251030T210000
SUMMARY:Caminades saludables
LOCATION:
METHOD:PUBLISH
X-WR-CALNAME:info@llinarsdelvalles.cat
X-WR-TIMEZONE:Europe/Madrid
DESCRIPTION:Cada dijous a la tarda

Nivell mitjà (6-8 km)

URI:https://www.llinarsdelvalles.cat/actualitat/agenda/58537-caminades-saludables.html
CLASS:PUBLIC
END:VEVENT
END:VCALENDAR
