BEGIN:VCALENDAR
VERSION:2.0
CALSCALE:GREGORIAN
PRODID:-//Diputació de Barcelona//DibaCMS//EN
BEGIN:VEVENT
UID:58571
DTSTAMP:20260421T065943
DTSTART:20251104T103000
DTEND:20251104T120000
SUMMARY:Xerrada sobre les vacunes d'aquest hivern
LOCATION:C/ Ramon i Cajal - (cantonada Av. Granollers) 08450 Llinars del Vallés
METHOD:PUBLISH
X-WR-CALNAME:info@llinarsdelvalles.cat
X-WR-TIMEZONE:Europe/Madrid
DESCRIPTION:A càrrec de Rosa Gallofré de Lapuente, infermera de l'EAP Alt Mogent

URI:https://www.llinarsdelvalles.cat/actualitat/agenda/xerrada-sobre-les-vacunes-daquest-hivern.html
CLASS:PUBLIC
END:VEVENT
END:VCALENDAR
