BEGIN:VCALENDAR
VERSION:2.0
CALSCALE:GREGORIAN
PRODID:-//Diputació de Barcelona//DibaCMS//EN
BEGIN:VEVENT
UID:58575
DTSTAMP:20260421T061458
DTSTART:20251108T093000
DTEND:20251108T190000
SUMMARY:Vallès Queer
LOCATION:C/ Josep Argila, 39 08450 Llinars del Vallés
METHOD:PUBLISH
X-WR-CALNAME:info@llinarsdelvalles.cat
X-WR-TIMEZONE:Europe/Madrid
DESCRIPTION:
URI:https://www.llinarsdelvalles.cat/actualitat/agenda/valles-queer.html
CLASS:PUBLIC
END:VEVENT
END:VCALENDAR
