BEGIN:VCALENDAR
VERSION:2.0
CALSCALE:GREGORIAN
PRODID:-//Diputació de Barcelona//DibaCMS//EN
BEGIN:VEVENT
UID:58576
DTSTAMP:20260421T024559
DTSTART:20251104T000000
DTEND:20251204T000000
SUMMARY:Exposició de Joan Giménez
LOCATION:C/ Ramon i Cajal - (cantonada Av. Granollers) 08450 Llinars del Vallés
METHOD:PUBLISH
X-WR-CALNAME:info@llinarsdelvalles.cat
X-WR-TIMEZONE:Europe/Madrid
DESCRIPTION:
URI:https://www.llinarsdelvalles.cat/actualitat/agenda/exposicio-de-joan-gimenez.html
CLASS:PUBLIC
END:VEVENT
END:VCALENDAR
