BEGIN:VCALENDAR
VERSION:2.0
CALSCALE:GREGORIAN
PRODID:-//Diputació de Barcelona//DibaCMS//EN
BEGIN:VEVENT
UID:58680
DTSTAMP:20260421T112235
DTSTART:20260108T170000
DTEND:20260108T210000
SUMMARY:Marató de Donants de Sang
LOCATION:C/ Josep Argila, 39 08450 Llinars del Vallés
METHOD:PUBLISH
X-WR-CALNAME:info@llinarsdelvalles.cat
X-WR-TIMEZONE:Europe/Madrid
DESCRIPTION:
URI:https://www.llinarsdelvalles.cat/actualitat/agenda/marato-de-donants-de-sang.html
CLASS:PUBLIC
END:VEVENT
END:VCALENDAR
