BEGIN:VCALENDAR
VERSION:2.0
CALSCALE:GREGORIAN
PRODID:-//Diputació de Barcelona//DibaCMS//EN
BEGIN:VEVENT
UID:58809
DTSTAMP:20260420T185310
DTSTART:20260305T170000
DTEND:20260305T210000
SUMMARY:Donació de sang
LOCATION:C/ Josep Argila, 39 08450 Llinars del Vallés
METHOD:PUBLISH
X-WR-CALNAME:info@llinarsdelvalles.cat
X-WR-TIMEZONE:Europe/Madrid
DESCRIPTION:Dona sang! 

Dona vida!

URI:https://www.llinarsdelvalles.cat/actualitat/agenda/58809-donacio-de-sang.html
CLASS:PUBLIC
END:VEVENT
END:VCALENDAR
