BEGIN:VCALENDAR
VERSION:2.0
CALSCALE:GREGORIAN
PRODID:-//Diputació de Barcelona//DibaCMS//EN
BEGIN:VEVENT
UID:58924
DTSTAMP:20260424T121705
DTSTART:20260424T160000
DTEND:20260424T200000
SUMMARY:Torneig de billar a 3 bandes per equips donant suport al Correllengua
LOCATION:08450 Llinars del Vallès
METHOD:PUBLISH
X-WR-CALNAME:info@llinarsdelvalles.cat
X-WR-TIMEZONE:Europe/Madrid
DESCRIPTION:
URI:https://www.llinarsdelvalles.cat/actualitat/agenda/torneig-de-billar-a-3-bandes-per-equips-donant-suport-al-correllengua.html
CLASS:PUBLIC
END:VEVENT
END:VCALENDAR
