BEGIN:VCALENDAR
VERSION:2.0
CALSCALE:GREGORIAN
PRODID:-//Diputació de Barcelona//DibaCMS//EN
BEGIN:VEVENT
UID:58925
DTSTAMP:20260424T133831
DTSTART:20260424T170000
DTEND:20260424T170000
SUMMARY:Sant Jordi: on viuen els Dracs?
LOCATION:Carrer de Gaudí, 15 08450 Llinars del Vallés
METHOD:PUBLISH
X-WR-CALNAME:info@llinarsdelvalles.cat
X-WR-TIMEZONE:Europe/Madrid
DESCRIPTION:A càrrec de Li Morenita (@li.morenita)

URI:https://www.llinarsdelvalles.cat/actualitat/agenda/sant-jordi-on-viuen-els-dracs.html
CLASS:PUBLIC
END:VEVENT
END:VCALENDAR
