BEGIN:VCALENDAR
VERSION:2.0
CALSCALE:GREGORIAN
PRODID:-//Diputació de Barcelona//DibaCMS//EN
BEGIN:VEVENT
UID:58926
DTSTAMP:20260420T235102
DTSTART:20260424T180000
DTEND:20260424T200000
SUMMARY:Bibliotaller - La llibreta de la biblio
LOCATION:Av. Pau Casals, 26 08450 Llinars del Vallès
METHOD:PUBLISH
X-WR-CALNAME:info@llinarsdelvalles.cat
X-WR-TIMEZONE:Europe/Madrid
DESCRIPTION:A càrrec de Marta Soley. de Dolça llibreta.

URI:https://www.llinarsdelvalles.cat/actualitat/agenda/bibliotaller-la-llibreta-de-la-biblio.html
CLASS:PUBLIC
END:VEVENT
END:VCALENDAR
