BEGIN:VCALENDAR
VERSION:2.0
CALSCALE:GREGORIAN
PRODID:-//Diputació de Barcelona//DibaCMS//EN
BEGIN:VEVENT
UID:58933
DTSTAMP:20260420T223809
DTSTART:20260423T193000
DTEND:20260423T193000
SUMMARY:Concert Coral de Sant Jordi
LOCATION:Av. Pau Casals, 26 08450 Llinars del Vallès
METHOD:PUBLISH
X-WR-CALNAME:info@llinarsdelvalles.cat
X-WR-TIMEZONE:Europe/Madrid
DESCRIPTION:A càrrec de la Coral Turó del Vent.

URI:https://www.llinarsdelvalles.cat/actualitat/agenda/concert-coral-de-sant-jordi.html
CLASS:PUBLIC
END:VEVENT
END:VCALENDAR
